BEGIN:VCALENDAR
VERSION:2.0
PRODID:-//SA Society of Hypnosis - ECPv6.15.20//NONSGML v1.0//EN
CALSCALE:GREGORIAN
METHOD:PUBLISH
X-WR-CALNAME:SA Society of Hypnosis
X-ORIGINAL-URL:https://sash.asn.au
X-WR-CALDESC:Events for SA Society of Hypnosis
REFRESH-INTERVAL;VALUE=DURATION:PT1H
X-Robots-Tag:noindex
X-PUBLISHED-TTL:PT1H
BEGIN:VTIMEZONE
TZID:Australia/Adelaide
BEGIN:STANDARD
TZOFFSETFROM:+1030
TZOFFSETTO:+0930
TZNAME:ACST
DTSTART:20160402T163000
END:STANDARD
BEGIN:DAYLIGHT
TZOFFSETFROM:+0930
TZOFFSETTO:+1030
TZNAME:ACDT
DTSTART:20161001T163000
END:DAYLIGHT
BEGIN:STANDARD
TZOFFSETFROM:+1030
TZOFFSETTO:+0930
TZNAME:ACST
DTSTART:20170401T163000
END:STANDARD
BEGIN:DAYLIGHT
TZOFFSETFROM:+0930
TZOFFSETTO:+1030
TZNAME:ACDT
DTSTART:20170930T163000
END:DAYLIGHT
BEGIN:STANDARD
TZOFFSETFROM:+1030
TZOFFSETTO:+0930
TZNAME:ACST
DTSTART:20180331T163000
END:STANDARD
BEGIN:DAYLIGHT
TZOFFSETFROM:+0930
TZOFFSETTO:+1030
TZNAME:ACDT
DTSTART:20181006T163000
END:DAYLIGHT
END:VTIMEZONE
BEGIN:VEVENT
DTSTART;TZID=Australia/Adelaide:20171104T090000
DTEND;TZID=Australia/Adelaide:20171104T160000
DTSTAMP:20260425T040312
CREATED:20171013T041330Z
LAST-MODIFIED:20171013T045057Z
UID:2334-1509786000-1509811200@sash.asn.au
SUMMARY:Introduction to Clinical Hypnosis Day
DESCRIPTION:Introduction to Clinical Hypnosis Day Flyer – 4 Nov 2017 \n  \nWho should consider attending?\n1. Medical Practitioners\, Psychologists\, Dentists\, Midwives\, Nurses\, Physios\, Social Workers\, Other health professionals interested in hypnosis\n2. Health professionals registered with AHPRA interested in participating in the 100+ hour\, part time South Australian Society Hypnosis Course for 2018 \nPresenters\nMembers of the Australian Society of Hypnosis (ASH) and Faculty of the South Australian Society of Hypnosis (SASH).\nDr Allan M Cyna FANZCA\, PhD Director of Studies South Australian Society of Hypnosis\nDr Rob Laing FANZCA\, Specialist Anesthetist\nDr Celia Whittle Dip.ClinHypn FRACGP Medical Practitioner\nMs Christine Holliday RM Dip.ClinHyp Midwife and Trainer\nDr Nicki Ferencz BA (Hons)\,D.Clin. Psychol. CPsychol.\, Clinical Psychologist\nDr Sabrina Kuah Obstetrician and Gynaecologist \nWhere\nMain Lecture Theatre\n1st Floor\, Queen Victoria building\nWomen’s and Children’s Hospital\n72 King William Rd\, North Adelade \nHow much\nEarly bird Before 1st November $110 – includes refreshments\, lunch GST\nFrom November 1st Registration is $130\nFull time students registering before 1st November $70 \nPlease note that registration is complimentary for those participants already registered for the Diploma Clinical Hypnosis course for 2018 \nHow to Register\nPlease register by emailing: \nsecretary@sash.asn.au\nwith your name\, specialty and AHPRA registration \nIntroductory day Registration: Course Payment details\nPeoples Choice Credit Union\nBSB: 805-050\nA/c No: 100025728\nReference: (Your Name) \nPlease email treasurer@sash.asn.au when you have made a transfer. \nWhat is the day about? FAQs answered\nWhat is hypnosis?\nThat’s a difficult question to answer quickly and precisely. Some people think that it is an ‘altered state of consciousness’\, but since there is currently no agreed definition of consciousness this argument can go around in circles. When we talk about hypnosis we often tend to be either talking about the relaxed\, focussed\, absorbed feelings associated with a ‘trance state’ (although some people don’t like the term trance)\, or we tend to be talking about the interesting things people can do when hypnotised – these are the products of ‘suggestion’. \nIs hypnosis real?\nShort answer: yes! Hypnotic suggestions can alter people’s sensations and perceptions. For example\, hypnotic suggestion can be used to generate vivid hallucinations\, or alter your perception of pain. Studies which measure brain activity have shown that hypnosis and hypnotic suggestions alter the way that the brain processes information. Randomised controlled clinical trials have shown that hypnosis can be an effective treatment for painand anxiety. \nCan anyone be hypnotised?\nYes\, everybody is hypnotizable to some extent – some more than others. Susceptibility to hypnosis can be measured with a hypnotic susceptibility scale (see ‘measurement of hypnosis’. Researchers tend to classify people as ‘highs’\, ‘mediums’\, or ‘lows’. About 80% of people are in the ‘medium’ band – meaning that they can experience many of the effects of hypnotic suggestion\, and are likely to benefit from its clinical use if necessary. Approximately 10% of the population are considered highly hypnotizable – meaning that they can readily experience quite dramatic changes in sensation and perception with hypnosis. Roughly 10% are classified as ‘low’ – meaning that they have not responded strongly to hypnosis (although there are some skills programmes which aim to increase susceptibility to hypnosis). \nTraining programmes have been devised which aim to increase how well participants respond on tests of suggestibility. Some researchers have argued that increases brought about through this method are not genuine and are simply the result of participants being encouraged to respond without necessary experiencing their response as involuntary (a criteria Weitzenhoffer set as a ‘true’ response to suggestion). However\, other researchers have argued that the subjective responses of such ‘trained high suggestible’ participants are indistinguishable from participants who were ‘naturally high suggestible’ without training. Some drugs have also been found to be effective in increasing suggestibility – eg oxytocin. \nIs hypnosis dangerous? What can it be used for? Where’s the evidence? Find out more on the Introductory day.
URL:https://sash.asn.au/event/introduction-to-clinical-hypnosis-day-2017/
LOCATION:Women’s & Children’s Hospital – Lecture Theatre\, 72 King William Road\, North Adelaide\, SA\, 5006\, Australia
ATTACH;FMTTYPE=image/jpeg:https://sash.asn.au/w/wp-content/uploads/2017/10/SASH-Intro-Day-Event-with-Banner.jpg
ORGANIZER;CN="Charmaine Harvey":MAILTO:secretary@sash.asn.au
END:VEVENT
END:VCALENDAR