BEGIN:VCALENDAR
VERSION:2.0
PRODID:-//SA Society of Hypnosis - ECPv5.0.0//NONSGML v1.0//EN
CALSCALE:GREGORIAN
METHOD:PUBLISH
X-WR-CALNAME:SA Society of Hypnosis
X-ORIGINAL-URL:https://sash.asn.au
X-WR-CALDESC:Events for SA Society of Hypnosis
BEGIN:VTIMEZONE
TZID:Australia/Adelaide
BEGIN:STANDARD
TZOFFSETFROM:+1030
TZOFFSETTO:+0930
TZNAME:ACST
DTSTART:20200404T163000
END:STANDARD
BEGIN:DAYLIGHT
TZOFFSETFROM:+0930
TZOFFSETTO:+1030
TZNAME:ACDT
DTSTART:20201003T163000
END:DAYLIGHT
END:VTIMEZONE
BEGIN:VEVENT
DTSTART;TZID=Australia/Adelaide:20200224T180000
DTEND;TZID=Australia/Adelaide:20200224T193000
DTSTAMP:20200229T021701
CREATED:20200130T040142Z
LAST-MODIFIED:20200130T040529Z
UID:3660-1582567200-1582572600@sash.asn.au
SUMMARY:Casebook Corner Mon 24th Feb 2020
DESCRIPTION:A great way to network with colleagues\, discuss tricky cases\, get advice and brainstorm solutions. \n
URL:https://sash.asn.au/event/casebook-corner-mon-24th-feb-2020/
LOCATION:Alma Tavern\, 66 Magill Road\, Norwood\, SA\, 5067\, Australia
ORGANIZER;CN="Sue%20Stefanovic":MAILTO:secretary@sash.asn.au
END:VEVENT
END:VCALENDAR